BEGIN:VCALENDAR
VERSION:2.0
PRODID:-//Gouvernance Intégrative - ECPv6.15.20//NONSGML v1.0//EN
CALSCALE:GREGORIAN
METHOD:PUBLISH
X-WR-CALNAME:Gouvernance Intégrative
X-ORIGINAL-URL:https://gouvernanceintegrative.com
X-WR-CALDESC:Évènements pour Gouvernance Intégrative
REFRESH-INTERVAL;VALUE=DURATION:PT1H
X-Robots-Tag:noindex
X-PUBLISHED-TTL:PT1H
BEGIN:VTIMEZONE
TZID:Europe/Paris
BEGIN:DAYLIGHT
TZOFFSETFROM:+0100
TZOFFSETTO:+0200
TZNAME:CEST
DTSTART:20250330T010000
END:DAYLIGHT
BEGIN:STANDARD
TZOFFSETFROM:+0200
TZOFFSETTO:+0100
TZNAME:CET
DTSTART:20251026T010000
END:STANDARD
BEGIN:DAYLIGHT
TZOFFSETFROM:+0100
TZOFFSETTO:+0200
TZNAME:CEST
DTSTART:20260329T010000
END:DAYLIGHT
BEGIN:STANDARD
TZOFFSETFROM:+0200
TZOFFSETTO:+0100
TZNAME:CET
DTSTART:20261025T010000
END:STANDARD
BEGIN:DAYLIGHT
TZOFFSETFROM:+0100
TZOFFSETTO:+0200
TZNAME:CEST
DTSTART:20270328T010000
END:DAYLIGHT
BEGIN:STANDARD
TZOFFSETFROM:+0200
TZOFFSETTO:+0100
TZNAME:CET
DTSTART:20271031T010000
END:STANDARD
END:VTIMEZONE
BEGIN:VEVENT
DTSTART;TZID=Europe/Paris:20260317T193000
DTEND;TZID=Europe/Paris:20260317T210000
DTSTAMP:20260423T120001
CREATED:20260204T203056Z
LAST-MODIFIED:20260204T204952Z
UID:14904-1773775800-1773781200@gouvernanceintegrative.com
SUMMARY:Atelier en ligne : “ Comment décider quand on n’est pas d’accord ? ” 19h30-21h
DESCRIPTION:Conflits\, tensions\, non dits\, claquages de portes ou discussions bloquées… vous connaissez ? \nComment coopérer et décider ensemble quand le fameux facteur humain s’invite dans nos réunions ? \n  \nNous te donnons rendez-vous le : \nMardi 17 mars de 19h30 à 21 h \nPour un atelier en ligne\,  gratuit mais l’inscription est nécessaire via ce lien : → formulaire d’inscription \nLors de cet atelier\, nous te partagerons : \n\nNotre définition de la gouvernance et la spécificité de la Gouvernance Intégrative\nEn quoi une gouvernance sur mesure peut permettre de décider même quand il y a des avis différents\nLes points de vigilance et les sujets qui sont générateurs de tensions\nDes retours d’expériences\, les pièges à éviter\n\nC’est un atelier interactif : tu seras invité.e à poser des questions dans le tchat\, donner ton avis\, participer à des temps de discussions en sous groupe ou rester spectateur.ice si tu préfères ! \nIl n’y aura pas d’enregistrement partagé suite à cet atelier\, vérifie si tu es disponible avant de t’inscrire. \nNous sommes Anne Lauvergeat et Guillaume Gardette\, formateurs\, accompagnants et membres du Réseau Gouvernance Intégrative. \nAu cours de cette soirée\, nous encadrerons les temps d’échange et nous ferons également des partages\, des apports en lien avec nos histoires de vie collective\, projets associatifs et notre expérience d’accompagnateurices-formateurices. \nJe suis Anne Lauvergeat\, formatrice et facilitatrice en intelligence collective\, experte dans l’art de prendre des décisions ensemble et j’accompagne les collectifs à s’organiser d’une façon simple\, efficace et joyeuse.\nAnne ETCOTERA \n  \n \net Guillaume Gardette\, formateur\, accompagnateur de collectifs\, médiateur . 🌟 \nA la bonn’heure \n___________________________________________________ \nSi tu souhaites échanger sur ton projet avec un membre de notre équipe : un simple clic pour prendre rdv pour un temps gratuit : https://meet.brevo.com/equipe-gi/echange
URL:https://gouvernanceintegrative.com/event/webinaire/
LOCATION:zoomWeb\, Lien après incription
CATEGORIES:Webinaire
ATTACH;FMTTYPE=image/jpeg:https://gouvernanceintegrative.com/wp-content/uploads/2026/03/Design_sans_titre_1.jpg
END:VEVENT
END:VCALENDAR