BEGIN:VCALENDAR
VERSION:2.0
PRODID:-//Gouvernance Intégrative - ECPv6.15.20//NONSGML v1.0//EN
CALSCALE:GREGORIAN
METHOD:PUBLISH
X-ORIGINAL-URL:https://gouvernanceintegrative.com
X-WR-CALDESC:Évènements pour Gouvernance Intégrative
REFRESH-INTERVAL;VALUE=DURATION:PT1H
X-Robots-Tag:noindex
X-PUBLISHED-TTL:PT1H
BEGIN:VTIMEZONE
TZID:Europe/Paris
BEGIN:DAYLIGHT
TZOFFSETFROM:+0100
TZOFFSETTO:+0200
TZNAME:CEST
DTSTART:20250330T010000
END:DAYLIGHT
BEGIN:STANDARD
TZOFFSETFROM:+0200
TZOFFSETTO:+0100
TZNAME:CET
DTSTART:20251026T010000
END:STANDARD
BEGIN:DAYLIGHT
TZOFFSETFROM:+0100
TZOFFSETTO:+0200
TZNAME:CEST
DTSTART:20260329T010000
END:DAYLIGHT
BEGIN:STANDARD
TZOFFSETFROM:+0200
TZOFFSETTO:+0100
TZNAME:CET
DTSTART:20261025T010000
END:STANDARD
BEGIN:DAYLIGHT
TZOFFSETFROM:+0100
TZOFFSETTO:+0200
TZNAME:CEST
DTSTART:20270328T010000
END:DAYLIGHT
BEGIN:STANDARD
TZOFFSETFROM:+0200
TZOFFSETTO:+0100
TZNAME:CET
DTSTART:20271031T010000
END:STANDARD
END:VTIMEZONE
BEGIN:VEVENT
DTSTART;TZID=Europe/Paris:20260308T200000
DTEND;TZID=Europe/Paris:20260308T213000
DTSTAMP:20260421T115801
CREATED:20260205T201950Z
LAST-MODIFIED:20260303T090724Z
UID:14923-1773000000-1773005400@gouvernanceintegrative.com
SUMMARY:Atelier en ligne - réinventez la démocratie
DESCRIPTION:Avez vos déjà eu l’impression que\, dans votre commune\,les décisions se prennent sans vous\,ou que l’on vous demande votre avis… sans qu’il change vraiment les choses ? Beaucoup de citoyen·nes ressentent aujourd’hui à la fois de la lassitude\, de la colère et une forme d’impuissance démocratique au niveau local.\n\nEt si la solution n’était pas QUI nous gouverne\,mais dans le fonctionnement même de nos communes et de nos élections municipales ?\n\n\nEt si nous citoyen-nes inventions une autre manière de prendre les décisions publiques ? \nDes listes engagées tentent déjà l’aventure un peu partout.\n\n \n\nCet atelier est une invitation à faire un premier pas\, ensemble : rêver\, s’inspirer. Il est conçu pour que vous puissiez exprimer votre vécu et vos idées.\n\n\n\nRejoignez nous dimanche 8 mars 2026 de 20h à 21h30 pour faire un premier pas vers une démocratie véritable. \n  \nAu programme\n20h00 – Présentation des intervenants et du déroulement\n20h05 – Présentation et partage en groupe de 3\n20h15 – Récapitulatif du fonctionnement des communes\, des dysfonctionnement et d’alternatives.\n20h25 – Travail de création en solo\n20h30 – En groupe de 3 chacun-e partage ses idées et reçoit le feed-back des autres\n21h – Partage des idées les plus inspirantes en grand groupe\n21h15 – Partage de processus et principe de gouvernance qui peuvent aider à réinventer la démocratie par Sacha\n21h25 – infos pour une éventuelle suite\, mots de la fin\n21h30 – Fin de l’évènement\, échanges informels \nCet atelier est accessible à absolument tout le monde. \nN’hésitez pas à inviter des personnes que vous penseriez intéressées ! \n \nAnimé par Sacha Epp\, créateur de la gouvernance intégrative\, formateur et accompagnant en création de gouvernances sur mesure\, intégrant la diversité des polarités \nhttps://www.linkedin.com/in/sacha-epp \n\nInscription\n\n\n  \n\n\n\n Votre Prénom*\n \n \n Pourriez vous nommer en quelques mots clés\, en quelques phrases ce qui dysfonctionne selon vous dans les élections municipales et les prises les décision au niveau communal ?\n(nous démarrerons le webinaire avec une synthèse courte de vos réponses)\n \n \n Votre e-mail*\n \n \n Souhaitez vous recevoir par newsletter des ressources gratuites et les actualités de la Gouvernance Intégrative qui organise ce webinaire ?(~1/mois\, désinscription en 1 clic) *\nOuiNonDéja fait
URL:https://gouvernanceintegrative.com/event/atelier-reinventez-la-democratie/
CATEGORIES:Webinaire : réinventez la démocratie
ATTACH;FMTTYPE=image/jpeg:https://gouvernanceintegrative.com/wp-content/uploads/2026/02/Reinventer-democratie-commune.jpg
END:VEVENT
END:VCALENDAR