BEGIN:VCALENDAR
VERSION:2.0
PRODID:-//Gouvernance Intégrative - ECPv6.15.20//NONSGML v1.0//EN
CALSCALE:GREGORIAN
METHOD:PUBLISH
X-ORIGINAL-URL:https://gouvernanceintegrative.com
X-WR-CALDESC:Évènements pour Gouvernance Intégrative
REFRESH-INTERVAL;VALUE=DURATION:PT1H
X-Robots-Tag:noindex
X-PUBLISHED-TTL:PT1H
BEGIN:VTIMEZONE
TZID:Europe/Paris
BEGIN:DAYLIGHT
TZOFFSETFROM:+0100
TZOFFSETTO:+0200
TZNAME:CEST
DTSTART:20250330T010000
END:DAYLIGHT
BEGIN:STANDARD
TZOFFSETFROM:+0200
TZOFFSETTO:+0100
TZNAME:CET
DTSTART:20251026T010000
END:STANDARD
BEGIN:DAYLIGHT
TZOFFSETFROM:+0100
TZOFFSETTO:+0200
TZNAME:CEST
DTSTART:20260329T010000
END:DAYLIGHT
BEGIN:STANDARD
TZOFFSETFROM:+0200
TZOFFSETTO:+0100
TZNAME:CET
DTSTART:20261025T010000
END:STANDARD
BEGIN:DAYLIGHT
TZOFFSETFROM:+0100
TZOFFSETTO:+0200
TZNAME:CEST
DTSTART:20270328T010000
END:DAYLIGHT
BEGIN:STANDARD
TZOFFSETFROM:+0200
TZOFFSETTO:+0100
TZNAME:CET
DTSTART:20271031T010000
END:STANDARD
END:VTIMEZONE
BEGIN:VEVENT
DTSTART;TZID=Europe/Paris:20260120T200000
DTEND;TZID=Europe/Paris:20260120T213000
DTSTAMP:20260421T153313
CREATED:20251216T163137Z
LAST-MODIFIED:20260105T133546Z
UID:14659-1768939200-1768944600@gouvernanceintegrative.com
SUMMARY:Webinaire : “Comment décider quand on n’est pas d’accord ? Gouvernance et Intégrative et conflits” 20h-21h30
DESCRIPTION:Nous te donnons rendez-vous le :\nMardi 20 janvier de 20h à 21 h 30.\nNous vous partagerons :\n✅ les 4 piliers d’un projet \n✅ les fondamentaux qui permettent à une gouvernance de fonctionner \n✅ des clés pour renforcer les relations grâce à une gouvernance ajustée \n✅ des retours d’expérience\, les pièges à éviter \nNous explorerons la question suivante : décider ensemble : est-ce que c’est forcément être tous d’accord ? Comment continuer à avancer quand le précieux facteur humain s’invite à nos réunions ? \nL’atelier aura lieu en ligne\, il est gratuit mais l’inscription est nécessaire via ce lien : formulaire d’inscription \nJe suis Anne Lauvergeat\, formatrice et facilitatrice en intelligence collective\, experte dans l’art de prendre des décisions ensemble et j’accompagne les collectifs à s’organiser d’une façon simple\, efficace et joyeuse.\nAnne.ETCOTERA \n \net Guillaume Gardette\, formateur\, accompagnateur de collectifs\, médiateur . 🌟 \nA la bonn’heure \n 
URL:https://gouvernanceintegrative.com/event/comment-decider-quand-on-nest-pas-daccord-gouvernance-et-integrative-et-conflits/
CATEGORIES:Webinaire
ATTACH;FMTTYPE=image/jpeg:https://gouvernanceintegrative.com/wp-content/uploads/2025/12/picto-cadre-e1765902892981.jpg
END:VEVENT
END:VCALENDAR