BEGIN:VCALENDAR
VERSION:2.0
PRODID:-//Gouvernance Intégrative - ECPv6.15.20//NONSGML v1.0//EN
CALSCALE:GREGORIAN
METHOD:PUBLISH
X-ORIGINAL-URL:https://gouvernanceintegrative.com
X-WR-CALDESC:Évènements pour Gouvernance Intégrative
REFRESH-INTERVAL;VALUE=DURATION:PT1H
X-Robots-Tag:noindex
X-PUBLISHED-TTL:PT1H
BEGIN:VTIMEZONE
TZID:Europe/Paris
BEGIN:DAYLIGHT
TZOFFSETFROM:+0100
TZOFFSETTO:+0200
TZNAME:CEST
DTSTART:20250330T010000
END:DAYLIGHT
BEGIN:STANDARD
TZOFFSETFROM:+0200
TZOFFSETTO:+0100
TZNAME:CET
DTSTART:20251026T010000
END:STANDARD
BEGIN:DAYLIGHT
TZOFFSETFROM:+0100
TZOFFSETTO:+0200
TZNAME:CEST
DTSTART:20260329T010000
END:DAYLIGHT
BEGIN:STANDARD
TZOFFSETFROM:+0200
TZOFFSETTO:+0100
TZNAME:CET
DTSTART:20261025T010000
END:STANDARD
BEGIN:DAYLIGHT
TZOFFSETFROM:+0100
TZOFFSETTO:+0200
TZNAME:CEST
DTSTART:20270328T010000
END:DAYLIGHT
BEGIN:STANDARD
TZOFFSETFROM:+0200
TZOFFSETTO:+0100
TZNAME:CET
DTSTART:20271031T010000
END:STANDARD
END:VTIMEZONE
BEGIN:VEVENT
DTSTART;TZID=Europe/Paris:20260115T110000
DTEND;TZID=Europe/Paris:20260115T121500
DTSTAMP:20260421T153406
CREATED:20251216T162629Z
LAST-MODIFIED:20260113T221748Z
UID:14646-1768474800-1768479300@gouvernanceintegrative.com
SUMMARY:Webinaire “Mieux décider ensemble" 11h-12h15
DESCRIPTION:Vous aspirez à un fonctionnement d’équipe plus fluide ?\n\n\nVous avez testé des démarches participatives… mais sans savoir comment bien les cadrer ? \n\n\nVous aspirez à un fonctionnement d’équipe plus aligné\, plus responsabilisant ? \n\n\nCe webinaire interactif est fait pour vous si…\n\nVous êtes manager\, dirigeant·e\, pilote de projet ou RH\nVous ressentez une charge mentale importante autour des décisions\nVous avez l’impression que certaines décisions manquent de clarté ou d’adhésion
URL:https://gouvernanceintegrative.com/event/webinaire-mieux-decider-ensemble/
CATEGORIES:Webinaire
ATTACH;FMTTYPE=image/png:https://gouvernanceintegrative.com/wp-content/uploads/2025/12/Decisions-ensemble.png
END:VEVENT
END:VCALENDAR