BEGIN:VCALENDAR
VERSION:2.0
PRODID:-//Gouvernance Intégrative - ECPv6.15.20//NONSGML v1.0//EN
CALSCALE:GREGORIAN
METHOD:PUBLISH
X-ORIGINAL-URL:https://gouvernanceintegrative.com
X-WR-CALDESC:Évènements pour Gouvernance Intégrative
REFRESH-INTERVAL;VALUE=DURATION:PT1H
X-Robots-Tag:noindex
X-PUBLISHED-TTL:PT1H
BEGIN:VTIMEZONE
TZID:Europe/Paris
BEGIN:DAYLIGHT
TZOFFSETFROM:+0100
TZOFFSETTO:+0200
TZNAME:CEST
DTSTART:20240331T010000
END:DAYLIGHT
BEGIN:STANDARD
TZOFFSETFROM:+0200
TZOFFSETTO:+0100
TZNAME:CET
DTSTART:20241027T010000
END:STANDARD
BEGIN:DAYLIGHT
TZOFFSETFROM:+0100
TZOFFSETTO:+0200
TZNAME:CEST
DTSTART:20250330T010000
END:DAYLIGHT
BEGIN:STANDARD
TZOFFSETFROM:+0200
TZOFFSETTO:+0100
TZNAME:CET
DTSTART:20251026T010000
END:STANDARD
BEGIN:DAYLIGHT
TZOFFSETFROM:+0100
TZOFFSETTO:+0200
TZNAME:CEST
DTSTART:20260329T010000
END:DAYLIGHT
BEGIN:STANDARD
TZOFFSETFROM:+0200
TZOFFSETTO:+0100
TZNAME:CET
DTSTART:20261025T010000
END:STANDARD
END:VTIMEZONE
BEGIN:VEVENT
DTSTART;TZID=Europe/Paris:20250220T130000
DTEND;TZID=Europe/Paris:20250220T134500
DTSTAMP:20260422T093523
CREATED:20240327T101405Z
LAST-MODIFIED:20250131T204029Z
UID:10371-1740056400-1740059100@gouvernanceintegrative.com
SUMMARY:Webinaire "les clés pour accompagner les groupes sur mesure"
DESCRIPTION:Jeudi 20 février de 13h à 13h45\n  \nAccompagner entreprises et associations à créer leurs gouvernances sur mesure\, ca vous intéresse ? C’est le kiff\, et il y a de la demande !\n  \nJe le fais plus de 4 ans. Nous sommes maintenant tout un réseau professionnel réparti en France. (Il manque encore des accompagnant-es en Ile de France\, dans l’Est\, dans le Centre\, en Suisse\, en Belgique\, au Canada)\n  \nAprès une présentation de 10mn de la méthode d’accompagnement de la Gouvernance Intégrative\, de mon activité et du réseau des professionnel-les GI.\nJe répondrais à toutes vos questions sans filtre : méthodologie\, éthique\, rémunération\, formation…\n\n  \nCe webinaire est destiné autant à des personnes déjà professionnelles de l’accompagnement curieux d’une autre approche\, qu’à des gens qui souhaitent le devenir.\n\nAnimé par Sacha Epp\, le créateur de la Gouvernance Intégrative.\n  \nInscription\n\n\n\n  \n\n\n\n Votre Prénom*\n \n \n Etes vous déjà professionnel-le de l'accompagnement de groupes ? *\nDéja proEnvie de le devenirJuste curieux \n \n Avez vous une attente particulière concernant ce webinaire ?\n \n \n Votre e-mail*\n \n \n Souhaitez vous recevoir des ressources gratuites et les actualités de la GI gràce à la newsletter (désinscription en 1 clic) *\nOuiNonDéja fait
URL:https://gouvernanceintegrative.com/event/webinaire-pro/
CATEGORIES:Webinaire pro : les clés pour accompagner sur mesure
ATTACH;FMTTYPE=image/jpeg:https://gouvernanceintegrative.com/wp-content/uploads/2024/03/webinaire-GI-pro.jpg
END:VEVENT
END:VCALENDAR