BEGIN:VCALENDAR
VERSION:2.0
PRODID:-//Gouvernance Intégrative - ECPv6.15.20//NONSGML v1.0//EN
CALSCALE:GREGORIAN
METHOD:PUBLISH
X-ORIGINAL-URL:https://gouvernanceintegrative.com
X-WR-CALDESC:Évènements pour Gouvernance Intégrative
REFRESH-INTERVAL;VALUE=DURATION:PT1H
X-Robots-Tag:noindex
X-PUBLISHED-TTL:PT1H
BEGIN:VTIMEZONE
TZID:Europe/Paris
BEGIN:DAYLIGHT
TZOFFSETFROM:+0100
TZOFFSETTO:+0200
TZNAME:CEST
DTSTART:20240331T010000
END:DAYLIGHT
BEGIN:STANDARD
TZOFFSETFROM:+0200
TZOFFSETTO:+0100
TZNAME:CET
DTSTART:20241027T010000
END:STANDARD
BEGIN:DAYLIGHT
TZOFFSETFROM:+0100
TZOFFSETTO:+0200
TZNAME:CEST
DTSTART:20250330T010000
END:DAYLIGHT
BEGIN:STANDARD
TZOFFSETFROM:+0200
TZOFFSETTO:+0100
TZNAME:CET
DTSTART:20251026T010000
END:STANDARD
BEGIN:DAYLIGHT
TZOFFSETFROM:+0100
TZOFFSETTO:+0200
TZNAME:CEST
DTSTART:20260329T010000
END:DAYLIGHT
BEGIN:STANDARD
TZOFFSETFROM:+0200
TZOFFSETTO:+0100
TZNAME:CET
DTSTART:20261025T010000
END:STANDARD
END:VTIMEZONE
BEGIN:VEVENT
DTSTART;TZID=Europe/Paris:20250117T121500
DTEND;TZID=Europe/Paris:20250117T134500
DTSTAMP:20260424T103515
CREATED:20240918T143326Z
LAST-MODIFIED:20250105T125706Z
UID:11495-1737116100-1737121500@gouvernanceintegrative.com
SUMMARY:Webinaire réinventez la démocratie - 17 janvier
DESCRIPTION:Face à des institutions plus instables que jamais\, face à cette fatigue démocratique qui gagne les citoyens\, nous sommes persuadés qu’il y a d’autres horizons que de chercher éternellement « la » personne pour nous gouverner et censée nous sauver.\n\n  \nEt si nous citoyen-nes inventions une autre manière dont pourrait fonctionner notre système politique ?\n  \n« Les rêves sont la clé pour ouvrir les portes de l’avenir »\n  \n\nRejoignez nous vendredi 17 janvier 2025 de 12h15 à 13h45 lors de ce webinaire interactif\, pour faire ensemble un premier pas vers une démocratie véritable. \nAu programme\n12h15 – Présentation des intervenants et du déroulement\n12h20 – présentation et partage en groupe de 3\n12h30 – Récapitulatif du système politique actuel et de ses problématiques (sur la base de vos réponses)\n12h40 – Travail de création en solo\n12h50 – Chacun-e partage ses idées et reçoit le feed-back des autres\n13h20 – Retour et partages en grand groupe\n13h35 – infos pour une éventuelle suite\, mots de la fin\n13h45 – Fin de l’évènement\, échanges informels \nC’est accessible à absolument tout le monde. \nN’hésitez pas à inviter des personnes que vous penseriez intéressées ! \nAnimé par Sacha Epp\, spécialiste de la création de gouvernances sur mesure\, intégrant la diversité des polarités\nEt Nicolas Briet\, facilitateur en intelligence collective et gouvernance partagée\n  \nInscription\n\n\n  \n\n\n\n Votre Prénom*\n \n \n Pourriez vous nommer en quelques mots clés\, en quelques phrases ce qui dysfonctionne selon vous dans les élections municipales et les prises les décision au niveau communal ?\n(nous démarrerons le webinaire avec une synthèse courte de vos réponses)\n \n \n Votre e-mail*\n \n \n Souhaitez vous recevoir par newsletter des ressources gratuites et les actualités de la Gouvernance Intégrative qui organise ce webinaire ?(~1/mois\, désinscription en 1 clic) *\nOuiNonDéja fait
URL:https://gouvernanceintegrative.com/event/webinaire-reinventez-la-democratie/
CATEGORIES:Webinaire : réinventez la démocratie
ATTACH;FMTTYPE=image/jpeg:https://gouvernanceintegrative.com/wp-content/uploads/2024/09/webinaire-Reinventez-la-democratie.jpg
END:VEVENT
END:VCALENDAR