BEGIN:VCALENDAR
VERSION:2.0
PRODID:-//Gouvernance Intégrative - ECPv6.15.20//NONSGML v1.0//EN
CALSCALE:GREGORIAN
METHOD:PUBLISH
X-ORIGINAL-URL:https://gouvernanceintegrative.com
X-WR-CALDESC:Évènements pour Gouvernance Intégrative
REFRESH-INTERVAL;VALUE=DURATION:PT1H
X-Robots-Tag:noindex
X-PUBLISHED-TTL:PT1H
BEGIN:VTIMEZONE
TZID:Europe/Paris
BEGIN:DAYLIGHT
TZOFFSETFROM:+0100
TZOFFSETTO:+0200
TZNAME:CEST
DTSTART:20240331T010000
END:DAYLIGHT
BEGIN:STANDARD
TZOFFSETFROM:+0200
TZOFFSETTO:+0100
TZNAME:CET
DTSTART:20241027T010000
END:STANDARD
BEGIN:DAYLIGHT
TZOFFSETFROM:+0100
TZOFFSETTO:+0200
TZNAME:CEST
DTSTART:20250330T010000
END:DAYLIGHT
BEGIN:STANDARD
TZOFFSETFROM:+0200
TZOFFSETTO:+0100
TZNAME:CET
DTSTART:20251026T010000
END:STANDARD
BEGIN:DAYLIGHT
TZOFFSETFROM:+0100
TZOFFSETTO:+0200
TZNAME:CEST
DTSTART:20260329T010000
END:DAYLIGHT
BEGIN:STANDARD
TZOFFSETFROM:+0200
TZOFFSETTO:+0100
TZNAME:CET
DTSTART:20261025T010000
END:STANDARD
END:VTIMEZONE
BEGIN:VEVENT
DTSTART;TZID=Europe/Paris:20251112T090000
DTEND;TZID=Europe/Paris:20251114T170000
DTSTAMP:20260420T152142
CREATED:20250612T165103Z
LAST-MODIFIED:20251029T123132Z
UID:12564-1762938000-1763139600@gouvernanceintegrative.com
SUMMARY:Formation – Apprenez à créer votre gouvernance sur mesure : Nantes 2025
DESCRIPTION:  \nPour vous inscrire\, complétez le formulaire puis validez votre inscription en payant les arrhes \n  \nFormulaire d’inscription\n\n  \n\n\n\nLes informations ne sont utilisées que pour l'organisation de la formation.\n \nDate et Lieu*\nNantes 12-14 NovembreParis 26-28 janvier\n \nJe passe par un financement externe ?\nOPCOPole EmploiMon employeur\nAttention : dossier OPCO à faire 2 mois minimum avant le début de formation\n \n Prénom*\n \n \n Nom*\n \n \n Email*\n \n \n Téléphone*\n \n \n Département de résidence (les chiffres pour la France)*\n\n \n Dans le but d’amorcer la réflexion et d’avoir plus de temps pour expérimenter et échanger ensemble\, pouvez-vous visionner une vidéo (50mn) et à faire un exercice (1h max) en amont de la formation* ?\n\n \n Si vous êtes parrainé-e par quelqu'un\, notez son nom ici :\n \n \n Comment avez vous connu la formation ?*\n \n \nSouhaitez vous être inscrit·e à la newsletter pour recevoir les ressources et infos sur les évènements ? (désinscription possible en 1 clic)*\nOuiNonDéja fait\n \n Commentaire libre\n\n \n\n \n\n\n \nPaiement des arrhes (30%) par prélevement SEPA https://pay.gocardless.com/BRT0003YJ4H7WCB(C’est le versement des arrhes qui réserve votre place)Informations sur le prélèvement si nécessaire. \nDe mercredi 12 novembre à vendredi 14 novembre.Une formation à pédagogie interactive pour remettre de la créativité\, de la joie\, de l’efficacité dans vos organisations 🔥 \nAu programme :•    Expérimenter différents paradigmes de gouvernance•    Découvrir toutes les familles de processus de prise de décisions et manières d’attribuer les rôles\, avec leur avantages et leurs inconvénients.•    Expérimenter sollicitation d’avis\, partage d’intention\, vote à choix multiples\, décisions algorithmiques et autres processus innovants avec des qualités rares (décider rapidement en grand groupe avec une forte adhésion\, décider avec de l’intelligence collective sans se réunir\, processus économes en énergie qui libèrent la capacité d’initiative de chacun-e\,…)•    Apprendre à choisir le bon processus au bon moment et à créer des variantes•    Voir des exemples inspirants de gouvernances sur mesure et apprendre à en créer une•    Explorer des pistes pour une organisation dont vous faites partie•    Voir les clés pour que les réunions soient fructueuses•    Recevoir la boite à outils complète de la Gouvernance Intégrative \nAnimée par Sacha Epp et Mariam Pichelin\, la formation est interactive\, elle intègre la tête\, le corps et le cœur !Fini les powerpoints soporifiques  ; ) \n  \nUne partie de la théorie vous est donnée à l’avance (vidéos et pdf). Le maximum de temps ensemble est consacré à expérimenter\, à échanger en petit et grand groupe\, à explorer vos questions \nHoraires : 9h-17h \nTarif pédagogie + salle :Financement personnel\, micro-entrepreneur\, association : 590€Financement OPCO : 1090€ \n50€ de réduction pour chaque personne que vous parrainez\,  ainsi que pour la personne parrainée.Échange et tarif solidaire possibles \nLimité à 12 places. \nPrésentation et témoignages de participant·es \n\nhttps://gouvernanceintegrative.com/wp-content/uploads/2025/04/Presentation-formation-2025.mp4\nLien vers tous les témoignages. \nLieu  :  Le Repère\, 15 rue Alsace Lorraine 44400 REZEDesservi en transport en commun: Tram Pirmil (lignes 2 et 3). Nombreux stationnements à proximité.Covoiturages organisés entre les participant-es venant de loin. \nPour toute question\, contactez Mariam au 06 12 29 74 60 ou à mariam@golearning.fr 
URL:https://gouvernanceintegrative.com/event/formation-apprenez-a-creer-votre-gouvernance-sur-mesure-nantes-2025/
LOCATION:Le Repère\, Rezé\, 15 rue Alsace Lorraine\, REZE\, 44400\, France
CATEGORIES:Formation initiale - Apprenez à créer une gouvernance sur mesure
ATTACH;FMTTYPE=image/jpeg:https://gouvernanceintegrative.com/wp-content/uploads/2024/02/banniere-accueil-mobile.jpg
END:VEVENT
END:VCALENDAR